BEGIN:VCALENDAR
VERSION:2.0
BEGIN:VEVENT
CLASS:PUBLIC
DESCRIPTION:1/18th Indoor at Vale Church Hall

DTSTART:20260514T184500Z
DTEND:20260514T224500Z
LOCATION:Vale Church Hall
SUMMARY;LANGUAGE=en-gb:Indoor 2026
END:VEVENT
END:VCALENDAR